BEGIN:VCALENDAR
VERSION:2.0
PRODID:-//Pastoral Counseling - ECPv6.15.20//NONSGML v1.0//EN
CALSCALE:GREGORIAN
METHOD:PUBLISH
X-ORIGINAL-URL:https://pastoralcounseling.eu
X-WR-CALDESC:Eventi per Pastoral Counseling
REFRESH-INTERVAL;VALUE=DURATION:PT1H
X-Robots-Tag:noindex
X-PUBLISHED-TTL:PT1H
BEGIN:VTIMEZONE
TZID:UTC
BEGIN:STANDARD
TZOFFSETFROM:+0000
TZOFFSETTO:+0000
TZNAME:UTC
DTSTART:20220101T000000
END:STANDARD
END:VTIMEZONE
BEGIN:VEVENT
DTSTART;TZID=UTC:20231129T093000
DTEND;TZID=UTC:20231129T183000
DTSTAMP:20260423T170211
CREATED:20231008T090251Z
LAST-MODIFIED:20231008T094202Z
UID:34093-1701250200-1701282600@pastoralcounseling.eu
SUMMARY:Lezioni
DESCRIPTION:9.00-13.00 Elementi di psicologia della personalitàProf. Borghetti\n14.30-18.30 Elementi di psicologia della personalitàProf. Borghetti
URL:https://pastoralcounseling.eu/event/lezioni-2/
LOCATION:Casa F.A.C.I.\, Via Lombardo Ernesto\, 16\, Massa\, 54100\, Italia
CATEGORIES:Classe I,Lezioni
END:VEVENT
END:VCALENDAR