BEGIN:VCALENDAR
VERSION:2.0
PRODID:-//Pastoral Counseling - ECPv6.15.20//NONSGML v1.0//EN
CALSCALE:GREGORIAN
METHOD:PUBLISH
X-WR-CALNAME:Pastoral Counseling
X-ORIGINAL-URL:https://pastoralcounseling.eu
X-WR-CALDESC:Eventi per Pastoral Counseling
REFRESH-INTERVAL;VALUE=DURATION:PT1H
X-Robots-Tag:noindex
X-PUBLISHED-TTL:PT1H
BEGIN:VTIMEZONE
TZID:UTC
BEGIN:STANDARD
TZOFFSETFROM:+0000
TZOFFSETTO:+0000
TZNAME:UTC
DTSTART:20230101T000000
END:STANDARD
END:VTIMEZONE
BEGIN:VEVENT
DTSTART;TZID=UTC:20251206T091500
DTEND;TZID=UTC:20251206T160000
DTSTAMP:20260423T200652
CREATED:20251024T130557Z
LAST-MODIFIED:20251024T141126Z
UID:34702-1765012500-1765036800@pastoralcounseling.eu
SUMMARY:La spiritualità è cura: la forza dell'amore nel dolore
DESCRIPTION:Conferenza con esperienza di Medicina Narrativa\nLa spiritualità è cura: la forza dell’amore nel dolore in risposta a un bisogno universale di speranza\, valore e dignità nelle relazioni che esiste in qualunque fase della vita\, compresa quella finale. \nÉ questa l’evoluzione della ricerca di Paola Argentino\, psichiatra e studiosa che da molti anni coordina le attività dell’Istituto di Neuroscienze e Gestalt “Nino Trapani” di Siracusa e del Master in Psico-Oncologia dell’Università Cattolica del Sacro Cuore. \nIn questo libro\, “costruito come una matrioska\, per cui ogni capitolo rinnova sorpresa\, fascino e interesse” (come scrive Padre Giovanni Salonia nella sua prefazione)\, l’autrice cuce in modo armonioso e integrato una moltitudine di saperi ed esperienze legati alla spiritual care e all’accompagnamento del paziente terminale. \n  \nLa dottoressa Paola Argentino\, nata a Siracusa nel 1963\, è medico\, psichiatra e psicoterapeuta della Gestalt. Dirigente medico del Dipartimento di Salute Mentale dell’ASP di Siracusa\, è docente presso l’Università Cattolica del Sacro Cuore di Roma\, nella Facoltà di Medicina e Chirurgia “Agostino Gemelli”. Dirige diversi master in Psico-Oncologia\, PNEI\, Neuroscienze e Counseling sanitario. Autrice del volume “La spiritualità è cura”\, integra scienza e spiritualità nel percorso terapeutico\, promuovendo una visione olistica della cura. È ideatrice del “Modello Gestaltico Comunitario”\, riconosciuto dal Ministero della Salute per il suo valore scientifico.\n			\n			\n				\n				\n				\n				\n			\n				\n				\n				\n				\n				\n				\n				\n				\n				\n				\n				DocenteDott.ssa Paola Argentino \nDiscussant:S.E.Mons. Guglielmo Borghetti \n			\n				\n				\n				\n				\n				\nPer info e iscrizionicell. 3519605416e-mail: segreteria.isrpc@gmail.com
URL:https://pastoralcounseling.eu/event/dal-curare-al-prendersi-cura-per-approdare-alla-spiritualita-del-prendersi-cura/
LOCATION:Casa F.A.C.I.\, Via Lombardo Ernesto\, 16\, Massa\, 54100\, Italia
CATEGORIES:Formazione
END:VEVENT
BEGIN:VEVENT
DTSTART;TZID=UTC:20251126T090000
DTEND;TZID=UTC:20251126T183000
DTSTAMP:20260423T200652
CREATED:20250917T090803Z
LAST-MODIFIED:20250917T090806Z
UID:34644-1764147600-1764181800@pastoralcounseling.eu
SUMMARY:Lezioni classe III
DESCRIPTION:ORARIO I SEMESTRE 2025/26 - CLASSE III
URL:https://pastoralcounseling.eu/event/lezioni-classe-iii/
LOCATION:Casa F.A.C.I.\, Via Lombardo Ernesto\, 16\, Massa\, 54100\, Italia
CATEGORIES:Classe III,Lezioni
END:VEVENT
BEGIN:VEVENT
DTSTART;TZID=UTC:20251125T090000
DTEND;TZID=UTC:20251125T183000
DTSTAMP:20260423T200652
CREATED:20250917T090614Z
LAST-MODIFIED:20250917T090617Z
UID:34640-1764061200-1764095400@pastoralcounseling.eu
SUMMARY:Lezioni classe II
DESCRIPTION:ORARIO I SEMESTRE 2025/26 - CLASSE II
URL:https://pastoralcounseling.eu/event/lezioni-classe-ii/
LOCATION:Casa F.A.C.I.\, Via Lombardo Ernesto\, 16\, Massa\, 54100\, Italia
CATEGORIES:Classe II,Lezioni
END:VEVENT
BEGIN:VEVENT
DTSTART;TZID=UTC:20251029T090000
DTEND;TZID=UTC:20251029T183000
DTSTAMP:20260423T200652
CREATED:20250917T090443Z
LAST-MODIFIED:20250917T090446Z
UID:34637-1761728400-1761762600@pastoralcounseling.eu
SUMMARY:Lezioni
DESCRIPTION:ORARIO I SEMESTRE 2025/26 - CLASSE II\n			\n			\n				\n				\n				\n				\n				\n				ORARIO I SEMESTRE 2025/26 - CLASSE III
URL:https://pastoralcounseling.eu/event/lezioni-26/
LOCATION:Casa F.A.C.I.\, Via Lombardo Ernesto\, 16\, Massa\, 54100\, Italia
CATEGORIES:Classe II,Classe III,Lezioni
END:VEVENT
BEGIN:VEVENT
DTSTART;TZID=UTC:20250924T090000
DTEND;TZID=UTC:20250924T183000
DTSTAMP:20260423T200652
CREATED:20250917T085437Z
LAST-MODIFIED:20250917T090302Z
UID:34629-1758704400-1758738600@pastoralcounseling.eu
SUMMARY:Lezioni
DESCRIPTION:ORARIO I SEMESTRE 2025/26 - CLASSE II\n			\n			\n				\n				\n				\n				\n				\n				ORARIO I SEMESTRE 2025/26 - CLASSE III
URL:https://pastoralcounseling.eu/event/lezioni-25/
LOCATION:Casa F.A.C.I.\, Via Lombardo Ernesto\, 16\, Massa\, 54100\, Italia
CATEGORIES:Classe II,Classe III,Lezioni
END:VEVENT
BEGIN:VEVENT
DTSTART;TZID=UTC:20250908T093000
DTEND;TZID=UTC:20250913T183000
DTSTAMP:20260423T200652
CREATED:20250917T085319Z
LAST-MODIFIED:20250917T085319Z
UID:34627-1757323800-1757788200@pastoralcounseling.eu
SUMMARY:I settimana intensiva – A. S. 2025 – 2026
DESCRIPTION:
URL:https://pastoralcounseling.eu/event/i-settimana-intensiva-a-s-2025-2026/
LOCATION:Casa F.A.C.I.\, Via Lombardo Ernesto\, 16\, Massa\, 54100\, Italia
CATEGORIES:settimana intensiva
END:VEVENT
BEGIN:VEVENT
DTSTART;TZID=UTC:20250625T090000
DTEND;TZID=UTC:20250625T183000
DTSTAMP:20260423T200652
CREATED:20240702T080248Z
LAST-MODIFIED:20240702T080258Z
UID:34391-1750842000-1750876200@pastoralcounseling.eu
SUMMARY:Lezioni
DESCRIPTION:
URL:https://pastoralcounseling.eu/event/lezioni-23/
LOCATION:Casa F.A.C.I.\, Via Lombardo Ernesto\, 16\, Massa\, 54100\, Italia
CATEGORIES:Lezioni
END:VEVENT
BEGIN:VEVENT
DTSTART;TZID=UTC:20250528T090000
DTEND;TZID=UTC:20250528T183000
DTSTAMP:20260423T200652
CREATED:20240702T075936Z
LAST-MODIFIED:20240702T080104Z
UID:34387-1748422800-1748457000@pastoralcounseling.eu
SUMMARY:Lezioni
DESCRIPTION:
URL:https://pastoralcounseling.eu/event/lezioni-22/
LOCATION:Casa F.A.C.I.\, Via Lombardo Ernesto\, 16\, Massa\, 54100\, Italia
CATEGORIES:Lezioni
END:VEVENT
BEGIN:VEVENT
DTSTART;TZID=UTC:20250430T090000
DTEND;TZID=UTC:20250430T183000
DTSTAMP:20260423T200652
CREATED:20240702T075748Z
LAST-MODIFIED:20240702T075757Z
UID:34383-1746003600-1746037800@pastoralcounseling.eu
SUMMARY:Lezioni
DESCRIPTION:
URL:https://pastoralcounseling.eu/event/lezioni-21/
LOCATION:Casa F.A.C.I.\, Via Lombardo Ernesto\, 16\, Massa\, 54100\, Italia
CATEGORIES:Lezioni
END:VEVENT
BEGIN:VEVENT
DTSTART;TZID=UTC:20250326T090000
DTEND;TZID=UTC:20250326T183000
DTSTAMP:20260423T200652
CREATED:20240702T075623Z
LAST-MODIFIED:20240702T075632Z
UID:34380-1742979600-1743013800@pastoralcounseling.eu
SUMMARY:Lezioni
DESCRIPTION:
URL:https://pastoralcounseling.eu/event/lezioni-20/
LOCATION:Casa F.A.C.I.\, Via Lombardo Ernesto\, 16\, Massa\, 54100\, Italia
CATEGORIES:Lezioni
END:VEVENT
BEGIN:VEVENT
DTSTART;TZID=UTC:20250322T090000
DTEND;TZID=UTC:20250322T170000
DTSTAMP:20260423T200652
CREATED:20250219T112301Z
LAST-MODIFIED:20250219T112452Z
UID:34531-1742634000-1742662800@pastoralcounseling.eu
SUMMARY:Il silenzio e la parola\, l'ascolto che cura
DESCRIPTION:docente\nDott.Vittorio Arcolini\n\n\n\n\n\nPer info e iscrizioni telefonare 3519605416Le iscrizioi sono accolte entro il 15 marzo \n\n\n\n\n\n			\n			\n				\n				\n				\n				\n			\n				\n				\n				\n				\n				\n				\n				\n				\n				\n				\n				\n\n\n\n\nCosto di iscrizione: € 50\,00 per la giornata intera.\n\nPranzo escluso.Al termine\, per chi lo richiede\, sarà rilasciato attestato di partecipazione. \n 
URL:https://pastoralcounseling.eu/event/il-silenzio-e-la-parola-lascolto-che-cura/
LOCATION:Casa F.A.C.I.\, Via Lombardo Ernesto\, 16\, Massa\, 54100\, Italia
CATEGORIES:Formazione
END:VEVENT
BEGIN:VEVENT
DTSTART;TZID=UTC:20250226T090000
DTEND;TZID=UTC:20250226T183000
DTSTAMP:20260423T200652
CREATED:20240702T075406Z
LAST-MODIFIED:20240702T075415Z
UID:34377-1740560400-1740594600@pastoralcounseling.eu
SUMMARY:Lezioni
DESCRIPTION:
URL:https://pastoralcounseling.eu/event/lezioni-19/
LOCATION:Casa F.A.C.I.\, Via Lombardo Ernesto\, 16\, Massa\, 54100\, Italia
CATEGORIES:Lezioni
END:VEVENT
BEGIN:VEVENT
DTSTART;TZID=UTC:20250203T090000
DTEND;TZID=UTC:20250208T183000
DTSTAMP:20260423T200652
CREATED:20240702T075050Z
LAST-MODIFIED:20241024T150416Z
UID:34371-1738573200-1739039400@pastoralcounseling.eu
SUMMARY:II settimana intensiva - A. S.  2024 - 2025
DESCRIPTION:Orario ANNI I e II
URL:https://pastoralcounseling.eu/event/ii-settimana-intensiva-as-2024-2025/
LOCATION:Casa F.A.C.I.\, Via Lombardo Ernesto\, 16\, Massa\, 54100\, Italia
CATEGORIES:settimana intensiva
END:VEVENT
BEGIN:VEVENT
DTSTART;TZID=UTC:20250129T090000
DTEND;TZID=UTC:20250129T183000
DTSTAMP:20260423T200652
CREATED:20240702T074758Z
LAST-MODIFIED:20241024T160035Z
UID:34368-1738141200-1738175400@pastoralcounseling.eu
SUMMARY:Lezioni
DESCRIPTION:ORARIO I SEMESTRE 2024/25 - CLASSE I\n			\n			\n				\n				\n				\n				\n				\n				ORARIO I SEMESTRE 2024/25 - CLASSE II
URL:https://pastoralcounseling.eu/event/lezioni-18/
LOCATION:Casa F.A.C.I.\, Via Lombardo Ernesto\, 16\, Massa\, 54100\, Italia
CATEGORIES:Lezioni
END:VEVENT
BEGIN:VEVENT
DTSTART;TZID=UTC:20241218T090000
DTEND;TZID=UTC:20241218T183000
DTSTAMP:20260423T200652
CREATED:20240702T080525Z
LAST-MODIFIED:20241024T155901Z
UID:34394-1734512400-1734546600@pastoralcounseling.eu
SUMMARY:Lezioni
DESCRIPTION:ORARIO I SEMESTRE 2024/25 - CLASSE I\n			\n			\n				\n				\n				\n				\n				\n				ORARIO I SEMESTRE 2024/25 - CLASSE II
URL:https://pastoralcounseling.eu/event/lezioni-24/
LOCATION:Casa F.A.C.I.\, Via Lombardo Ernesto\, 16\, Massa\, 54100\, Italia
CATEGORIES:Lezioni
END:VEVENT
BEGIN:VEVENT
DTSTART;TZID=UTC:20241127T090000
DTEND;TZID=UTC:20241127T183000
DTSTAMP:20260423T200652
CREATED:20240702T074620Z
LAST-MODIFIED:20241024T155741Z
UID:34362-1732698000-1732732200@pastoralcounseling.eu
SUMMARY:Lezioni
DESCRIPTION:ORARIO I SEMESTRE 2024/25 - CLASSE I\n			\n			\n				\n				\n				\n				\n				\n				ORARIO I SEMESTRE 2024/25 - CLASSE II
URL:https://pastoralcounseling.eu/event/lezioni-17/
LOCATION:Casa F.A.C.I.\, Via Lombardo Ernesto\, 16\, Massa\, 54100\, Italia
CATEGORIES:Lezioni
END:VEVENT
BEGIN:VEVENT
DTSTART;TZID=UTC:20241030T090000
DTEND;TZID=UTC:20241030T183000
DTSTAMP:20260423T200652
CREATED:20240702T074326Z
LAST-MODIFIED:20241024T155602Z
UID:34355-1730278800-1730313000@pastoralcounseling.eu
SUMMARY:Lezioni
DESCRIPTION:ORARIO I SEMESTRE 2024/25 - CLASSE I\n			\n			\n				\n				\n				\n				\n				\n				ORARIO I SEMESTRE 2024/25 - CLASSE II
URL:https://pastoralcounseling.eu/event/lezioni-16/
LOCATION:Casa F.A.C.I.\, Via Lombardo Ernesto\, 16\, Massa\, 54100\, Italia
CATEGORIES:Lezioni
END:VEVENT
BEGIN:VEVENT
DTSTART;TZID=UTC:20241026T090000
DTEND;TZID=UTC:20241026T170000
DTSTAMP:20260423T200652
CREATED:20241024T163821Z
LAST-MODIFIED:20241024T164019Z
UID:34486-1729933200-1729962000@pastoralcounseling.eu
SUMMARY:Violenza: rendere visibile l'invisibile
DESCRIPTION:Relatore \nDott.ssa Eleni Tsinaki\, Dott.ssa Rosa Maranto\nla dott.ssa Eleni Tsinaki e la dott.ssa Maranto\, medici responsabili codice rosa aslnordovest\, affronteranno uno dei temi più d’attualità e sensibili degli ultimi anni: la violenza sulle donne\, un fenomeno che assume le forme di una vera piaga sociale e sul quale tutti siamo invitati a riflettere per trovare soluzioni e arginare il problema \n\n\n\n\n\nPer info e iscrizioni telefonare 3519605416 \n\n\n\n\n\n			\n			\n				\n				\n				\n				\n			\n				\n				\n				\n				\n				\n				\n				\n				\n				\n				\n				\n\n\n\n\nCosto di iscrizione: € 50\,00 per la giornata intera.\nCosto di iscrizione per studenti e counselors ISRPC: € 50\,00 .\n\nPranzo escluso.Al termine\, per chi lo richiede\, sarà rilasciato attestato di partecipazione. \n 
URL:https://pastoralcounseling.eu/event/violenza-rendere-visibile-linvisibile-2/
LOCATION:sede Albenga\, via Galileo Galilei\, 36\, Albenga
CATEGORIES:Formazione
END:VEVENT
BEGIN:VEVENT
DTSTART;TZID=UTC:20240925T090000
DTEND;TZID=UTC:20240925T203000
DTSTAMP:20260423T200652
CREATED:20240702T073646Z
LAST-MODIFIED:20240702T074157Z
UID:34347-1727254800-1727296200@pastoralcounseling.eu
SUMMARY:Lezioni
DESCRIPTION:
URL:https://pastoralcounseling.eu/event/lezioni-15/
LOCATION:Casa F.A.C.I.\, Via Lombardo Ernesto\, 16\, Massa\, 54100\, Italia
CATEGORIES:Lezioni
END:VEVENT
BEGIN:VEVENT
DTSTART;TZID=UTC:20240909T090000
DTEND;TZID=UTC:20240914T183000
DTSTAMP:20260423T200652
CREATED:20240702T072850Z
LAST-MODIFIED:20240703T080809Z
UID:34341-1725872400-1726338600@pastoralcounseling.eu
SUMMARY:I settimana intensiva a.s. 2024 - 2025
DESCRIPTION:I SETTIMANA INTENSIVA 2024/25 – CLASSE I\n			\n				\n				\n				\n				\n				\n\n\nOrario\nLunedì 9\nMartedì 10 \nMercoledì 11\nGiovedì 12\nVenerdì 13\nSabato 14\n\n\n 08.00\nLODI MATTUTINE E COLAZIONE\n\n\n9.00-13.00\nSviluppo umano ed elementi di psicologia generaleProf. Gatti\nSviluppo umano ed elementi di psicologia generaleProf. Gatti\nSviluppo umano ed elementi di psicologia generaleProf. Gatti\nAntropologia cristiana IProf. Borghetti\nTecniche di gruppo\nAntropologia cristiana IProf. Borghetti\n\n\n1 modulo= 5 crediti / 1 credito = 45 minuti Possibilità di una breve pausa durante le lezioni\n\n\n 13.15\nPranzo\n\n\n14.30-18.30\nSviluppo umano ed elementi di psicologia generaleProf. Gatti\nSviluppo umano ed elementi di psicologia generaleProf. Gatti\nAntropologia cristiana IProf. Borghetti\nAntropologia cristiana IProf. Borghetti\nAntropologia cristiana IProf. Borghetti\n \n\n\n\n19.15  \n20.00 \n\n\nS. Messa \nCena \n\n\n\n \nAnalisi dinamica film\nTecniche di gruppo\n \nAnalisi dinamica film\nPlenaria (21.00-21.30)\n\n\n\n  \n			\n				I SETTIMANA INTENSIVA 2024/25 – CLASSE I\n			\n			\n				\n				\n				\n				\n			\n				\n				\n				\n				\n				\n				\n				\n				\n				\n				\n				I SETTIMANA INTENSIVA 2024/25 – CLASSE II\n			\n				\n				\n				\n				\n				\n\n\nOrario\nLunedì 9\nMartedì 10 \nMercoledì 11\nGiovedì 12\nVenerdì 13\nSabato 14\n\n\n 08.00\nLODI MATTUTINE E COLAZIONE\n\n\n9.00-13.00\nDinamica di gruppo e animazione pastoraleProf. Caprini\nDinamica di gruppo e animazione pastoraleProf. Caprini\nLe abilità di counseling nell’accompagnamento spiritualeProf. Zuccon\nLe abilità di counseling nell’accompagnamento spiritualeProf. Zuccon\nTecniche di gruppo\nBioetica cristianaProf. Furfori\n\n\n1 modulo= 5 crediti / 1 credito = 45 minuti Possibilità di una breve pausa durante le lezioni\n\n\n 13.15\nPranzo\n\n\n14.30-18.30\nDinamica di gruppo e animazione pastoraleProf. Caprini\nDinamica di gruppo e animazione pastoraleProf. Caprini\nLe abilità di counseling nell’accompagnamento spiritualeProf. Zuccon\nBioetica cristianaProf. Furfori\nBioetica cristianaProf. Furfori\n \n\n\n\n19.15  \n20.00 \n\n\nS. Messa \nCena \n\n\n\n \nAnalisi dinamica film\nTecniche di gruppo\n \nAnalisi dinamica film\nPlenaria (21.00-21.30)\n\n\n\n  \n			\n				I SETTIMANA INTENSIVA 2024/25 – CLASSE II
URL:https://pastoralcounseling.eu/event/i_sett_int_2425/
LOCATION:Casa F.A.C.I.\, Via Lombardo Ernesto\, 16\, Massa\, 54100\, Italia
CATEGORIES:settimana intensiva
END:VEVENT
BEGIN:VEVENT
DTSTART;TZID=UTC:20240626T093000
DTEND;TZID=UTC:20240626T183000
DTSTAMP:20260423T200652
CREATED:20231008T091101Z
LAST-MODIFIED:20231008T091101Z
UID:34109-1719394200-1719426600@pastoralcounseling.eu
SUMMARY:Lezioni
DESCRIPTION:
URL:https://pastoralcounseling.eu/event/lezioni-14/
LOCATION:Casa F.A.C.I.\, Via Lombardo Ernesto\, 16\, Massa\, 54100\, Italia
CATEGORIES:Lezioni
END:VEVENT
BEGIN:VEVENT
DTSTART;TZID=UTC:20240529T093000
DTEND;TZID=UTC:20240529T183000
DTSTAMP:20260423T200652
CREATED:20231008T091006Z
LAST-MODIFIED:20231008T091006Z
UID:34107-1716975000-1717007400@pastoralcounseling.eu
SUMMARY:Lezioni
DESCRIPTION:
URL:https://pastoralcounseling.eu/event/lezioni-13/
LOCATION:Casa F.A.C.I.\, Via Lombardo Ernesto\, 16\, Massa\, 54100\, Italia
CATEGORIES:Lezioni
END:VEVENT
BEGIN:VEVENT
DTSTART;TZID=UTC:20240424T093000
DTEND;TZID=UTC:20240424T183000
DTSTAMP:20260423T200652
CREATED:20231008T090914Z
LAST-MODIFIED:20231008T090914Z
UID:34105-1713951000-1713983400@pastoralcounseling.eu
SUMMARY:Lezioni
DESCRIPTION:
URL:https://pastoralcounseling.eu/event/lezioni-12/
LOCATION:Casa F.A.C.I.\, Via Lombardo Ernesto\, 16\, Massa\, 54100\, Italia
CATEGORIES:Lezioni
END:VEVENT
BEGIN:VEVENT
DTSTART;TZID=UTC:20240413T090000
DTEND;TZID=UTC:20240413T170000
DTSTAMP:20260423T200652
CREATED:20231130T175139Z
LAST-MODIFIED:20240311T192302Z
UID:34253-1712998800-1713027600@pastoralcounseling.eu
SUMMARY:Violenza: rendere visibile l’invisibile
DESCRIPTION:Relatore \nDott.ssa Eleni Tsinaki\, Dott.ssa Rosa Maranto\nla dott.ssa Eleni Tsinaki e la dott.ssa Maranto\, medici responsabili codice rosa aslnordovest\, affronteranno uno dei temi più d’attualità e sensibili degli ultimi anni: la violenza sulle donne\, un fenomeno che assume le forme di una vera piaga sociale e sul quale tutti siamo invitati a riflettere per trovare soluzioni e arginare il problema \n\nPer iscriversi compilare il modulo allegato e inviarlo a: segreteria.isrpc@gmail.com \n\n			\n			\n				\n				\n				\n				\n			\n				\n				\n				\n				\n				\n				\n				\n				\n				\n				\n				\n\n\n\n\nCosto di iscrizione: € 60\,00 per la giornata intera.\nCosto di iscrizione per studenti e counselors ISRPC: € 50\,00 .\n\nOgni giornata di formazione dà diritto a 8 crediti per la formazione permanente dei counselors iscritti al registro di “Diaconia”. Non saranno accettati più di 25 partecipanti ad ogni giornata di formazione.Al termine\, per chi lo richiede\, sarà rilasciato attestato di partecipazione. \nGli incontri si terranno nella sede operativa di Casa F.A.C.I\, a Marina di Massa.Possibilità di pranzare presso il ristorante Casa F.A.C.I previa prenotazione
URL:https://pastoralcounseling.eu/event/violenza-rendere-visibile-linvisibile/
LOCATION:Casa F.A.C.I.\, Via Lombardo Ernesto\, 16\, Massa\, 54100\, Italia
CATEGORIES:Formazione
ATTACH;FMTTYPE=image/jpeg:https://pastoralcounseling.eu/wp-content/uploads/2015/09/FORMAZIONE.jpg
END:VEVENT
BEGIN:VEVENT
DTSTART;TZID=UTC:20240327T093000
DTEND;TZID=UTC:20240327T183000
DTSTAMP:20260423T200652
CREATED:20231008T090808Z
LAST-MODIFIED:20231008T090808Z
UID:34103-1711531800-1711564200@pastoralcounseling.eu
SUMMARY:Lezioni
DESCRIPTION:
URL:https://pastoralcounseling.eu/event/lezioni-11/
LOCATION:Casa F.A.C.I.\, Via Lombardo Ernesto\, 16\, Massa\, 54100\, Italia
CATEGORIES:Lezioni
END:VEVENT
BEGIN:VEVENT
DTSTART;TZID=UTC:20240316T090000
DTEND;TZID=UTC:20240316T170000
DTSTAMP:20260423T200652
CREATED:20231130T172000Z
LAST-MODIFIED:20240311T192607Z
UID:34243-1710579600-1710608400@pastoralcounseling.eu
SUMMARY:Team building: imparare a lavorare insieme.
DESCRIPTION:Relatore \nProf. Don Luca Caprini \n \nDon Luca Caprini Dottore in Teologia Pastorale (Pastorale Giovanile e Catechetica) e Teologia della Comunicazione affronterà il tema del “gruppo”\, dell’insieme di attività e procedimenti che servono a far interagire un gruppo di persone allo scopo di migliorarne la capacità di lavorare in squadra. Per lavorare efficacemente in gruppo è’ necessario chiarire\, condividere\, e rispettare un percorso di lavoro e le modalità  per affrontarlo e concluderlo. \nPer iscriversi compilare il modulo allegato e inviarlo a: segreteria.isrpc@gmail.com \n			\n			\n				\n				\n				\n				\n			\n				\n				\n				\n				\n				\n				\n				\n				\n				\n				\n				\n\n\n\n\nCosto di iscrizione: € 60\,00 per la giornata intera.\nCosto di iscrizione per studenti e counselors ISRPC: € 50\,00 .\n\nOgni giornata di formazione dà diritto a 8 crediti per la formazione permanente dei counselors iscritti al registro di “Diaconia”. Non saranno accettati più di 25 partecipanti ad ogni giornata di formazione.Al termine\, per chi lo richiede\, sarà rilasciato attestato di partecipazione. \nGli incontri si terranno nella sede operativa di Albenga
URL:https://pastoralcounseling.eu/event/team-building-imparare-a-lavorare-insieme-2/
LOCATION:sede Albenga\, via Galileo Galilei\, 36\, Albenga
CATEGORIES:Formazione
ATTACH;FMTTYPE=image/jpeg:https://pastoralcounseling.eu/wp-content/uploads/2015/09/FORMAZIONE.jpg
END:VEVENT
BEGIN:VEVENT
DTSTART;TZID=UTC:20240302T090000
DTEND;TZID=UTC:20240302T170000
DTSTAMP:20260423T200652
CREATED:20231130T174804Z
LAST-MODIFIED:20231130T174846Z
UID:34248-1709370000-1709398800@pastoralcounseling.eu
SUMMARY:Il mondo interiore dei personaggi biblici: alcune icone significative.
DESCRIPTION:Relatore \nProf. Gabriele M. Corini\nIl prof. Corini\, dottore in teologia biblica e docente all’ISSR Ligure\, guiderà alla  conoscenza di  alcuni tra i personaggi biblici più noti: alcune icone significative per il loro modo di essere\, la loro vita interiore in relazione al contesto. \nPer iscriversi compilare il modulo allegato e inviarlo a: segreteria.isrpc@gmail.com \n			\n			\n				\n				\n				\n				\n			\n				\n				\n				\n				\n				\n				\n				\n				\n				\n				\n				\n\n\n\n\nCosto di iscrizione: € 60\,00 per la giornata intera.\nCosto di iscrizione per studenti e counselors ISRPC: € 50\,00 .\n\nOgni giornata di formazione dà diritto a 8 crediti per la formazione permanente dei counselors iscritti al registro di “Diaconia”. Non saranno accettati più di 25 partecipanti ad ogni giornata di formazione.Al termine\, per chi lo richiede\, sarà rilasciato attestato di partecipazione. \nGli incontri si terranno nella sede operativa di Casa F.A.C.I\, a Marina di Massa.Possibilità di pranzare presso il ristorante Casa F.A.C.I previa prenotazione
URL:https://pastoralcounseling.eu/event/il-mondo-interiore-dei-personaggi-biblici-alcune-icone-significative/
LOCATION:Casa F.A.C.I.\, Via Lombardo Ernesto\, 16\, Massa\, 54100\, Italia
CATEGORIES:Formazione
ATTACH;FMTTYPE=image/jpeg:https://pastoralcounseling.eu/wp-content/uploads/2015/09/FORMAZIONE.jpg
END:VEVENT
BEGIN:VEVENT
DTSTART;TZID=UTC:20240228T093000
DTEND;TZID=UTC:20240228T183000
DTSTAMP:20260423T200652
CREATED:20231008T090714Z
LAST-MODIFIED:20231008T090714Z
UID:34101-1709112600-1709145000@pastoralcounseling.eu
SUMMARY:Lezioni
DESCRIPTION:
URL:https://pastoralcounseling.eu/event/lezioni-10/
LOCATION:Casa F.A.C.I.\, Via Lombardo Ernesto\, 16\, Massa\, 54100\, Italia
CATEGORIES:Lezioni
END:VEVENT
BEGIN:VEVENT
DTSTART;TZID=UTC:20240217T090000
DTEND;TZID=UTC:20240217T170000
DTSTAMP:20260423T200652
CREATED:20231130T171611Z
LAST-MODIFIED:20240208T200304Z
UID:34239-1708160400-1708189200@pastoralcounseling.eu
SUMMARY:Tecniche di animazione: «vivere il gruppo».
DESCRIPTION:Relatore \nProf. Don Luca Caprini \nDon Luca Caprini Dottore in Teologia Pastorale (Pastorale Giovanile e Catechetica) e Teologia della Comunicazione affronterà il tema del “gruppo”\, dell’insieme di attività e procedimenti che servono a far interagire un gruppo di persone allo scopo di migliorarne la capacità di lavorare in squadra. Per lavorare efficacemente in gruppo è’ necessario chiarire\, condividere\, e rispettare un percorso di lavoro e le modalità per affrontarlo e concluderlo. \n\nPer iscriversi compilare il modulo allegato e inviarlo a: segreteria.isrpc@gmail.com \n\n			\n			\n				\n				\n				\n				\n			\n				\n				\n				\n				\n				\n				\n				\n				\n				\n				\n				\n\n\n\n\nCosto di iscrizione: € 60\,00 per la giornata intera.\nCosto di iscrizione per studenti e counselors ISRPC: € 50\,00 .\n\nOgni giornata di formazione dà diritto a 8 crediti per la formazione permanente dei counselors iscritti al registro di “Diaconia”. Non saranno accettati più di 25 partecipanti ad ogni giornata di formazione.Al termine\, per chi lo richiede\, sarà rilasciato attestato di partecipazione. \nGli incontri si terranno nella sede operativa di Albenga
URL:https://pastoralcounseling.eu/event/tecniche-di-animazione-vivere-il-gruppo/
LOCATION:sede Albenga\, via Galileo Galilei\, 36\, Albenga
CATEGORIES:Formazione
ATTACH;FMTTYPE=image/jpeg:https://pastoralcounseling.eu/wp-content/uploads/2015/09/FORMAZIONE.jpg
END:VEVENT
BEGIN:VEVENT
DTSTART;VALUE=DATE:20240205
DTEND;VALUE=DATE:20240211
DTSTAMP:20260423T200652
CREATED:20231008T090617Z
LAST-MODIFIED:20240130T205055Z
UID:34099-1707091200-1707609599@pastoralcounseling.eu
SUMMARY:II° Settimana intensiva
DESCRIPTION:Orario\nLunedì 5 \nMartedì 6 \nMercoledì 7\nGiovedì 8\nVenerdì 9\nSabato 10\n\n\n 08.00\nLODI MATTUTINE E COLAZIONE\n\n\n9.00-13.00\nLa comunicazione interpersonale e le metodologie di ascoltoProf. Gatti\nLa comunicazione interpersonale e le metodologie di ascoltoProf. Gatti\nLa comunicazione interpersonale e le metodologie di ascoltoProf. Gatti\nTeologia spiritualeProf. Zuccon\nConsulenza pastorale: teoria e tecnica IProf. Carolini\nConsulenza pastorale: teoria e tecnica IProf. Carolini\n\n\n1 modulo= 5 crediti / 1 credito = 45 minuti Possibilità di una breve pausa durante le lezioni\n\n\n 13.15\nPranzo\n\n\n14.30-18.30\nLa comunicazione interpersonale e le metodologie di ascoltoProf. Gatti\nLa comunicazione interpersonale e le metodologie di ascoltoProf. Gatti\nTeologia spiritualeProf. Zuccon\nTeologia spiritualeProf. Zuccon\nConsulenza pastorale: teoria e tecnica IProf. Carolini\n \n\n\n\n19.15  \n20.00 \n\n\nS. Messa \nCena \n\n\n\n \nAnalisi dinamica film\nPercorsi di gruppo\nAnalisi dinamica film\n \nPlenaria (21.00-21.30)\n\n\n\n 
URL:https://pastoralcounseling.eu/event/ii-settimana-intensiva/
LOCATION:Casa F.A.C.I.\, Via Lombardo Ernesto\, 16\, Massa\, 54100\, Italia
CATEGORIES:settimana intensiva
END:VEVENT
END:VCALENDAR