BEGIN:VCALENDAR
VERSION:2.0
PRODID:-//Pastoral Counseling - ECPv6.15.20//NONSGML v1.0//EN
CALSCALE:GREGORIAN
METHOD:PUBLISH
X-ORIGINAL-URL:http://pastoralcounseling.eu
X-WR-CALDESC:Eventi per Pastoral Counseling
REFRESH-INTERVAL;VALUE=DURATION:PT1H
X-Robots-Tag:noindex
X-PUBLISHED-TTL:PT1H
BEGIN:VTIMEZONE
TZID:UTC
BEGIN:STANDARD
TZOFFSETFROM:+0000
TZOFFSETTO:+0000
TZNAME:UTC
DTSTART:20230101T000000
END:STANDARD
END:VTIMEZONE
BEGIN:VEVENT
DTSTART;TZID=UTC:20240413T090000
DTEND;TZID=UTC:20240413T170000
DTSTAMP:20260423T050657
CREATED:20231130T185139Z
LAST-MODIFIED:20240311T202302Z
UID:34253-1712998800-1713027600@pastoralcounseling.eu
SUMMARY:Violenza: rendere visibile l’invisibile
DESCRIPTION:Relatore \nDott.ssa Eleni Tsinaki\, Dott.ssa Rosa Maranto\nla dott.ssa Eleni Tsinaki e la dott.ssa Maranto\, medici responsabili codice rosa aslnordovest\, affronteranno uno dei temi più d’attualità e sensibili degli ultimi anni: la violenza sulle donne\, un fenomeno che assume le forme di una vera piaga sociale e sul quale tutti siamo invitati a riflettere per trovare soluzioni e arginare il problema \n\nPer iscriversi compilare il modulo allegato e inviarlo a: segreteria.isrpc@gmail.com \n\n			\n			\n				\n				\n				\n				\n			\n				\n				\n				\n				\n				\n				\n				\n				\n				\n				\n				\n\n\n\n\nCosto di iscrizione: € 60\,00 per la giornata intera.\nCosto di iscrizione per studenti e counselors ISRPC: € 50\,00 .\n\nOgni giornata di formazione dà diritto a 8 crediti per la formazione permanente dei counselors iscritti al registro di “Diaconia”. Non saranno accettati più di 25 partecipanti ad ogni giornata di formazione.Al termine\, per chi lo richiede\, sarà rilasciato attestato di partecipazione. \nGli incontri si terranno nella sede operativa di Casa F.A.C.I\, a Marina di Massa.Possibilità di pranzare presso il ristorante Casa F.A.C.I previa prenotazione
URL:http://pastoralcounseling.eu/event/violenza-rendere-visibile-linvisibile/
LOCATION:Casa F.A.C.I.\, Via Lombardo Ernesto\, 16\, Massa\, 54100\, Italia
CATEGORIES:Formazione
ATTACH;FMTTYPE=image/jpeg:http://pastoralcounseling.eu/wp-content/uploads/2015/09/FORMAZIONE.jpg
END:VEVENT
END:VCALENDAR