BEGIN:VCALENDAR
VERSION:2.0
PRODID:-//Pastoral Counseling - ECPv6.15.20//NONSGML v1.0//EN
CALSCALE:GREGORIAN
METHOD:PUBLISH
X-WR-CALNAME:Pastoral Counseling
X-ORIGINAL-URL:https://pastoralcounseling.eu
X-WR-CALDESC:Eventi per Pastoral Counseling
REFRESH-INTERVAL;VALUE=DURATION:PT1H
X-Robots-Tag:noindex
X-PUBLISHED-TTL:PT1H
BEGIN:VTIMEZONE
TZID:UTC
BEGIN:STANDARD
TZOFFSETFROM:+0000
TZOFFSETTO:+0000
TZNAME:UTC
DTSTART:20220101T000000
END:STANDARD
END:VTIMEZONE
BEGIN:VEVENT
DTSTART;TZID=UTC:20230930T090000
DTEND;TZID=UTC:20230930T170000
DTSTAMP:20260423T234429
CREATED:20230928T174106Z
LAST-MODIFIED:20230928T175325Z
UID:33984-1696064400-1696093200@pastoralcounseling.eu
SUMMARY:Tecniche di animazione: «vivere il gruppo»
DESCRIPTION:Relatore \nProf. Don Luca Caprini \n  \n\n\n\n\n\nPer iscriversi compilare il modulo allegato e inviarlo a: segreteria.isrpc@gmail.com  \n\n\n\n\n\n			\n			\n				\n				\n				\n				\n			\n				\n				\n				\n				\n				\n				\n				\n				\n				\n				\n				\n\n\n\n\nCosto di iscrizione: € 60\,00 per la giornata intera.\nCosto di iscrizione per studenti e counselors ISRPC: € 50\,00 .\n\nOgni giornata di formazione dà diritto a 8 crediti per la formazione permanente dei counselors iscritti al registro di “Diaconia”. Non saranno accettati più di 25 partecipanti ad ogni giornata di formazione.Al termine\, per chi lo richiede\, sarà rilasciato attestato di partecipazione. \nGli incontri si terranno nella sede operativa di Casa F.A.C.I\, a Marina di Massa.Possibilità di pranzare presso il ristorante Casa F.A.C.I previa prenotazione
URL:https://pastoralcounseling.eu/event/33984/
LOCATION:Casa F.A.C.I.\, Via Lombardo Ernesto\, 16\, Massa\, 54100\, Italia
CATEGORIES:Formazione
ATTACH;FMTTYPE=image/jpeg:https://pastoralcounseling.eu/wp-content/uploads/2015/09/FORMAZIONE.jpg
END:VEVENT
END:VCALENDAR