BEGIN:VCALENDAR
VERSION:2.0
PRODID:-//Pastoral Counseling - ECPv6.15.20//NONSGML v1.0//EN
CALSCALE:GREGORIAN
METHOD:PUBLISH
X-WR-CALNAME:Pastoral Counseling
X-ORIGINAL-URL:http://pastoralcounseling.eu
X-WR-CALDESC:Eventi per Pastoral Counseling
REFRESH-INTERVAL;VALUE=DURATION:PT1H
X-Robots-Tag:noindex
X-PUBLISHED-TTL:PT1H
BEGIN:VTIMEZONE
TZID:UTC
BEGIN:STANDARD
TZOFFSETFROM:+0000
TZOFFSETTO:+0000
TZNAME:UTC
DTSTART:20230101T000000
END:STANDARD
END:VTIMEZONE
BEGIN:VEVENT
DTSTART;TZID=UTC:20240302T090000
DTEND;TZID=UTC:20240302T170000
DTSTAMP:20260421T151016
CREATED:20231130T184804Z
LAST-MODIFIED:20231130T184846Z
UID:34248-1709370000-1709398800@pastoralcounseling.eu
SUMMARY:Il mondo interiore dei personaggi biblici: alcune icone significative.
DESCRIPTION:Relatore \nProf. Gabriele M. Corini\nIl prof. Corini\, dottore in teologia biblica e docente all’ISSR Ligure\, guiderà alla  conoscenza di  alcuni tra i personaggi biblici più noti: alcune icone significative per il loro modo di essere\, la loro vita interiore in relazione al contesto. \nPer iscriversi compilare il modulo allegato e inviarlo a: segreteria.isrpc@gmail.com \n			\n			\n				\n				\n				\n				\n			\n				\n				\n				\n				\n				\n				\n				\n				\n				\n				\n				\n\n\n\n\nCosto di iscrizione: € 60\,00 per la giornata intera.\nCosto di iscrizione per studenti e counselors ISRPC: € 50\,00 .\n\nOgni giornata di formazione dà diritto a 8 crediti per la formazione permanente dei counselors iscritti al registro di “Diaconia”. Non saranno accettati più di 25 partecipanti ad ogni giornata di formazione.Al termine\, per chi lo richiede\, sarà rilasciato attestato di partecipazione. \nGli incontri si terranno nella sede operativa di Casa F.A.C.I\, a Marina di Massa.Possibilità di pranzare presso il ristorante Casa F.A.C.I previa prenotazione
URL:http://pastoralcounseling.eu/event/il-mondo-interiore-dei-personaggi-biblici-alcune-icone-significative/
LOCATION:Casa F.A.C.I.\, Via Lombardo Ernesto\, 16\, Massa\, 54100\, Italia
CATEGORIES:Formazione
ATTACH;FMTTYPE=image/jpeg:http://pastoralcounseling.eu/wp-content/uploads/2015/09/FORMAZIONE.jpg
END:VEVENT
BEGIN:VEVENT
DTSTART;TZID=UTC:20240316T090000
DTEND;TZID=UTC:20240316T170000
DTSTAMP:20260421T151016
CREATED:20231130T182000Z
LAST-MODIFIED:20240311T202607Z
UID:34243-1710579600-1710608400@pastoralcounseling.eu
SUMMARY:Team building: imparare a lavorare insieme.
DESCRIPTION:Relatore \nProf. Don Luca Caprini \n \nDon Luca Caprini Dottore in Teologia Pastorale (Pastorale Giovanile e Catechetica) e Teologia della Comunicazione affronterà il tema del “gruppo”\, dell’insieme di attività e procedimenti che servono a far interagire un gruppo di persone allo scopo di migliorarne la capacità di lavorare in squadra. Per lavorare efficacemente in gruppo è’ necessario chiarire\, condividere\, e rispettare un percorso di lavoro e le modalità  per affrontarlo e concluderlo. \nPer iscriversi compilare il modulo allegato e inviarlo a: segreteria.isrpc@gmail.com \n			\n			\n				\n				\n				\n				\n			\n				\n				\n				\n				\n				\n				\n				\n				\n				\n				\n				\n\n\n\n\nCosto di iscrizione: € 60\,00 per la giornata intera.\nCosto di iscrizione per studenti e counselors ISRPC: € 50\,00 .\n\nOgni giornata di formazione dà diritto a 8 crediti per la formazione permanente dei counselors iscritti al registro di “Diaconia”. Non saranno accettati più di 25 partecipanti ad ogni giornata di formazione.Al termine\, per chi lo richiede\, sarà rilasciato attestato di partecipazione. \nGli incontri si terranno nella sede operativa di Albenga
URL:http://pastoralcounseling.eu/event/team-building-imparare-a-lavorare-insieme-2/
LOCATION:sede Albenga\, via Galileo Galilei\, 36\, Albenga
CATEGORIES:Formazione
ATTACH;FMTTYPE=image/jpeg:http://pastoralcounseling.eu/wp-content/uploads/2015/09/FORMAZIONE.jpg
END:VEVENT
END:VCALENDAR