BEGIN:VCALENDAR
VERSION:2.0
PRODID:-//Pastoral Counseling - ECPv6.15.20//NONSGML v1.0//EN
CALSCALE:GREGORIAN
METHOD:PUBLISH
X-ORIGINAL-URL:http://pastoralcounseling.eu
X-WR-CALDESC:Eventi per Pastoral Counseling
REFRESH-INTERVAL;VALUE=DURATION:PT1H
X-Robots-Tag:noindex
X-PUBLISHED-TTL:PT1H
BEGIN:VTIMEZONE
TZID:UTC
BEGIN:STANDARD
TZOFFSETFROM:+0000
TZOFFSETTO:+0000
TZNAME:UTC
DTSTART:20220101T000000
END:STANDARD
END:VTIMEZONE
BEGIN:VEVENT
DTSTART;TZID=UTC:20231202T090000
DTEND;TZID=UTC:20231202T170000
DTSTAMP:20260422T103719
CREATED:20231102T101547Z
LAST-MODIFIED:20240104T172938Z
UID:34188-1701507600-1701536400@pastoralcounseling.eu
SUMMARY:Abusi: come prevenirli?
DESCRIPTION:Relatore \nS.E. Mons. Guglielmo Borghetti\nMons Borghetti\, Vescovo di Albenga-Imperia tratterà gli abusi sessuali su minori cercando di definirne gli elementi che li costituiscono: chi sono le vittime degli abusi e i luoghi tipici dell’abuso sessuale su minori e adulti vulnerabili\, le conseguenze sulle vittime di abusi. Approfondirà le caratteristiche della persona abusante tratteggiandone un profilo e\, infine\, esaminerà come si pongono oggi le premesse per una vera cultura del dialogo e della prevenzione nella Chiesa e nella società. Alcuni cenni saranno dedicati all’abuso di potere\, e all’abuso spirituale. \n\nPer iscriversi compilare il modulo allegato e inviarlo a: segreteria.isrpc@gmail.com \n\n			\n			\n				\n				\n				\n				\n			\n				\n				\n				\n				\n				\n				\n				\n				\n				\n				\n				\n\n\n\n\nCosto di iscrizione: € 60\,00 per la giornata intera.\nCosto di iscrizione per studenti e counselors ISRPC: € 50\,00 .\n\nOgni giornata di formazione dà diritto a 8 crediti per la formazione permanente dei counselors iscritti al registro di “Diaconia”. Non saranno accettati più di 25 partecipanti ad ogni giornata di formazione.Al termine\, per chi lo richiede\, sarà rilasciato attestato di partecipazione. \nGli incontri si terranno nella sede operativa di Casa F.A.C.I\, a Marina di Massa.Possibilità di pranzare presso il ristorante Casa F.A.C.I previa prenotazione
URL:http://pastoralcounseling.eu/event/abusi-come-prevenirli/
LOCATION:Casa F.A.C.I.\, Via Lombardo Ernesto\, 16\, Massa\, 54100\, Italia
CATEGORIES:Formazione
ATTACH;FMTTYPE=image/jpeg:http://pastoralcounseling.eu/wp-content/uploads/2015/09/FORMAZIONE.jpg
END:VEVENT
END:VCALENDAR