BEGIN:VCALENDAR
VERSION:2.0
PRODID:-//Pastoral Counseling - ECPv6.15.20//NONSGML v1.0//EN
CALSCALE:GREGORIAN
METHOD:PUBLISH
X-ORIGINAL-URL:http://pastoralcounseling.eu
X-WR-CALDESC:Eventi per Pastoral Counseling
REFRESH-INTERVAL;VALUE=DURATION:PT1H
X-Robots-Tag:noindex
X-PUBLISHED-TTL:PT1H
BEGIN:VTIMEZONE
TZID:UTC
BEGIN:STANDARD
TZOFFSETFROM:+0000
TZOFFSETTO:+0000
TZNAME:UTC
DTSTART:20200101T000000
END:STANDARD
END:VTIMEZONE
BEGIN:VEVENT
DTSTART;TZID=UTC:20240424T093000
DTEND;TZID=UTC:20240424T183000
DTSTAMP:20260421T173636
CREATED:20231008T110914Z
LAST-MODIFIED:20231008T110914Z
UID:34105-1713951000-1713983400@pastoralcounseling.eu
SUMMARY:Lezioni
DESCRIPTION:
URL:http://pastoralcounseling.eu/event/lezioni-12/
LOCATION:Casa F.A.C.I.\, Via Lombardo Ernesto\, 16\, Massa\, 54100\, Italia
CATEGORIES:Lezioni
END:VEVENT
BEGIN:VEVENT
DTSTART;TZID=UTC:20240327T093000
DTEND;TZID=UTC:20240327T183000
DTSTAMP:20260421T173636
CREATED:20231008T110808Z
LAST-MODIFIED:20231008T110808Z
UID:34103-1711531800-1711564200@pastoralcounseling.eu
SUMMARY:Lezioni
DESCRIPTION:
URL:http://pastoralcounseling.eu/event/lezioni-11/
LOCATION:Casa F.A.C.I.\, Via Lombardo Ernesto\, 16\, Massa\, 54100\, Italia
CATEGORIES:Lezioni
END:VEVENT
BEGIN:VEVENT
DTSTART;TZID=UTC:20240228T093000
DTEND;TZID=UTC:20240228T183000
DTSTAMP:20260421T173636
CREATED:20231008T110714Z
LAST-MODIFIED:20231008T110714Z
UID:34101-1709112600-1709145000@pastoralcounseling.eu
SUMMARY:Lezioni
DESCRIPTION:
URL:http://pastoralcounseling.eu/event/lezioni-10/
LOCATION:Casa F.A.C.I.\, Via Lombardo Ernesto\, 16\, Massa\, 54100\, Italia
CATEGORIES:Lezioni
END:VEVENT
BEGIN:VEVENT
DTSTART;TZID=UTC:20240131T093000
DTEND;TZID=UTC:20240131T183000
DTSTAMP:20260421T173636
CREATED:20231008T110453Z
LAST-MODIFIED:20231008T114402Z
UID:34097-1706693400-1706725800@pastoralcounseling.eu
SUMMARY:Lezioni
DESCRIPTION:9.00-13.00 Percorsi di gruppoProf. Carolini\n14.30-18.30 Elementi di anatomia e fisiologia del sistema nervoso Prof. Furfori
URL:http://pastoralcounseling.eu/event/lezioni-4/
LOCATION:Casa F.A.C.I.\, Via Lombardo Ernesto\, 16\, Massa\, 54100\, Italia
CATEGORIES:Classe I,Lezioni
END:VEVENT
BEGIN:VEVENT
DTSTART;TZID=UTC:20231227T093000
DTEND;TZID=UTC:20231227T183000
DTSTAMP:20260421T173636
CREATED:20231008T110352Z
LAST-MODIFIED:20231008T113951Z
UID:34095-1703669400-1703701800@pastoralcounseling.eu
SUMMARY:Lezioni
DESCRIPTION:9.00-13.00 Elementi di anatomia e fisiologia del sistema nervoso Prof. Furfori\n14.30-18.30 Elementi di anatomia e fisiologia del sistema nervoso Prof. Furfori
URL:http://pastoralcounseling.eu/event/lezioni-3/
LOCATION:Casa F.A.C.I.\, Via Lombardo Ernesto\, 16\, Massa\, 54100\, Italia
CATEGORIES:Classe I,Lezioni
END:VEVENT
BEGIN:VEVENT
DTSTART;TZID=UTC:20231129T093000
DTEND;TZID=UTC:20231129T183000
DTSTAMP:20260421T173636
CREATED:20231008T110251Z
LAST-MODIFIED:20231008T114202Z
UID:34093-1701250200-1701282600@pastoralcounseling.eu
SUMMARY:Lezioni
DESCRIPTION:9.00-13.00 Elementi di psicologia della personalitàProf. Borghetti\n14.30-18.30 Elementi di psicologia della personalitàProf. Borghetti
URL:http://pastoralcounseling.eu/event/lezioni-2/
LOCATION:Casa F.A.C.I.\, Via Lombardo Ernesto\, 16\, Massa\, 54100\, Italia
CATEGORIES:Classe I,Lezioni
END:VEVENT
BEGIN:VEVENT
DTSTART;TZID=UTC:20231025T093000
DTEND;TZID=UTC:20231025T173000
DTSTAMP:20260421T173636
CREATED:20231008T110116Z
LAST-MODIFIED:20231008T113556Z
UID:34091-1698226200-1698255000@pastoralcounseling.eu
SUMMARY:Lezioni
DESCRIPTION:9.00-13.00 Elementi di psicologia della personalitàProf. Borghetti\n14.30-18.30 Elementi di psicologia della personalitàProf. Borghetti
URL:http://pastoralcounseling.eu/event/lezioni/
LOCATION:Casa F.A.C.I.\, Via Lombardo Ernesto\, 16\, Massa\, 54100\, Italia
CATEGORIES:Classe I,Lezioni
END:VEVENT
BEGIN:VEVENT
DTSTART;TZID=UTC:20230628T090000
DTEND;TZID=UTC:20230628T183000
DTSTAMP:20260421T173636
CREATED:20230128T141329Z
LAST-MODIFIED:20230208T170415Z
UID:33557-1687942800-1687977000@pastoralcounseling.eu
SUMMARY:Counseling per la famiglia Prof. Ferrari
DESCRIPTION:NOTA : dalle 13\,00 alle 14\,30 pausa pranzo
URL:http://pastoralcounseling.eu/event/counseling-per-la-famiglia-prof-ferrari-2/
LOCATION:Casa F.A.C.I.\, Via Lombardo Ernesto\, 16\, Massa\, 54100\, Italia
CATEGORIES:Classe II,Classe III,Lezioni
ATTACH;FMTTYPE=image/png:http://pastoralcounseling.eu/wp-content/uploads/2023/01/lezione.png
END:VEVENT
BEGIN:VEVENT
DTSTART;TZID=UTC:20230608T100000
DTEND;TZID=UTC:20230608T120000
DTSTAMP:20260421T173636
CREATED:20230524T104925Z
LAST-MODIFIED:20230524T110213Z
UID:33874-1686218400-1686225600@pastoralcounseling.eu
SUMMARY:Colloqui primo anno
DESCRIPTION:Giovedi 8 Giugno alle ore 10\,00 si terranno presso la scuola i colloqui di ammissione al primo anno della scuola di Pastoral Counseling.  \nPer tutte le informazioni rivolgersi alla Segreteria dell’Istituto chiamando nei giorni di martedì\, mercoledì e giovedì dalle 9 alle 12.30 al 351 9605416 o scrivendo a: segreteria.isrpc@gmail.com. \n 
URL:http://pastoralcounseling.eu/event/colloqui-primo-anno/
LOCATION:Casa F.A.C.I.\, Via Lombardo Ernesto\, 16\, Massa\, 54100\, Italia
CATEGORIES:Classe I,Lezioni
ATTACH;FMTTYPE=image/jpeg:http://pastoralcounseling.eu/wp-content/uploads/2015/09/FORMAZIONE.jpg
END:VEVENT
BEGIN:VEVENT
DTSTART;TZID=UTC:20230531T090000
DTEND;TZID=UTC:20230531T183000
DTSTAMP:20260421T173636
CREATED:20230128T141219Z
LAST-MODIFIED:20230208T170404Z
UID:33555-1685523600-1685557800@pastoralcounseling.eu
SUMMARY:Counseling per la famiglia Prof. Ferrari
DESCRIPTION:NOTA: dalle 13\,00 alle 14\,30 pausa pranzo
URL:http://pastoralcounseling.eu/event/counseling-per-la-famiglia-prof-ferrari/
LOCATION:Casa F.A.C.I.\, Via Lombardo Ernesto\, 16\, Massa\, 54100\, Italia
CATEGORIES:Classe II,Classe III,Lezioni
ATTACH;FMTTYPE=image/png:http://pastoralcounseling.eu/wp-content/uploads/2023/01/lezione.png
END:VEVENT
BEGIN:VEVENT
DTSTART;TZID=UTC:20230426T090000
DTEND;TZID=UTC:20230426T183000
DTSTAMP:20260421T173636
CREATED:20230128T141113Z
LAST-MODIFIED:20230208T170332Z
UID:33553-1682499600-1682533800@pastoralcounseling.eu
SUMMARY:Dinamiche film Prof. Carolini
DESCRIPTION:NOTA: dalle 13\,00 alle 14\,30 pausa pranzo
URL:http://pastoralcounseling.eu/event/dinamiche-film-prof-carolini/
LOCATION:Casa F.A.C.I.\, Via Lombardo Ernesto\, 16\, Massa\, 54100\, Italia
CATEGORIES:Classe II,Classe III,Lezioni
ATTACH;FMTTYPE=image/png:http://pastoralcounseling.eu/wp-content/uploads/2023/01/lezione.png
END:VEVENT
BEGIN:VEVENT
DTSTART;TZID=UTC:20230329T090000
DTEND;TZID=UTC:20230329T183000
DTSTAMP:20260421T173636
CREATED:20230128T140928Z
LAST-MODIFIED:20230208T170345Z
UID:33551-1680080400-1680114600@pastoralcounseling.eu
SUMMARY:Problemi del vissuto nella vita religiosa Prof. Galli
DESCRIPTION:NOTA: dalle 13\,00 alle 14\,30 pausa pranzo
URL:http://pastoralcounseling.eu/event/problemi-del-vissuto-nella-vita-religiosa-prof-galli-2/
LOCATION:Casa F.A.C.I.\, Via Lombardo Ernesto\, 16\, Massa\, 54100\, Italia
CATEGORIES:Classe II,Classe III,Lezioni
ATTACH;FMTTYPE=image/png:http://pastoralcounseling.eu/wp-content/uploads/2023/01/lezione.png
END:VEVENT
BEGIN:VEVENT
DTSTART;TZID=UTC:20230222T090000
DTEND;TZID=UTC:20230222T183000
DTSTAMP:20260421T173636
CREATED:20230128T140358Z
LAST-MODIFIED:20230208T170303Z
UID:33547-1677056400-1677090600@pastoralcounseling.eu
SUMMARY:Problemi del vissuto nella vita religiosa -Prof. Galli
DESCRIPTION:NOTA: dalle 13\,00 alle 14\,30 pausa pranzo
URL:http://pastoralcounseling.eu/event/problemi-del-vissuto-nella-vita-religiosa-prof-galli/
LOCATION:Casa F.A.C.I.\, Via Lombardo Ernesto\, 16\, Massa\, 54100\, Italia
CATEGORIES:Classe II,Classe III,Lezioni
ATTACH;FMTTYPE=image/png:http://pastoralcounseling.eu/wp-content/uploads/2023/01/lezione.png
END:VEVENT
BEGIN:VEVENT
DTSTART;TZID=UTC:20220629T090000
DTEND;TZID=UTC:20220629T183000
DTSTAMP:20260421T173636
CREATED:20210926T135142Z
LAST-MODIFIED:20210926T135142Z
UID:33088-1656493200-1656527400@pastoralcounseling.eu
SUMMARY:Lezioni
DESCRIPTION:
URL:http://pastoralcounseling.eu/event/lezioni-9/
LOCATION:Casa F.A.C.I.\, Via Lombardo Ernesto\, 16\, Massa\, 54100\, Italia
CATEGORIES:Lezioni
END:VEVENT
BEGIN:VEVENT
DTSTART;TZID=UTC:20220525T090000
DTEND;TZID=UTC:20220525T183000
DTSTAMP:20260421T173636
CREATED:20210926T135049Z
LAST-MODIFIED:20210926T135049Z
UID:33086-1653469200-1653503400@pastoralcounseling.eu
SUMMARY:Lezioni
DESCRIPTION:
URL:http://pastoralcounseling.eu/event/lezioni-8/
LOCATION:Casa F.A.C.I.\, Via Lombardo Ernesto\, 16\, Massa\, 54100\, Italia
CATEGORIES:Lezioni
END:VEVENT
BEGIN:VEVENT
DTSTART;TZID=UTC:20220427T090000
DTEND;TZID=UTC:20220427T183000
DTSTAMP:20260421T173636
CREATED:20210926T135002Z
LAST-MODIFIED:20210926T135002Z
UID:33084-1651050000-1651084200@pastoralcounseling.eu
SUMMARY:Lezioni
DESCRIPTION:
URL:http://pastoralcounseling.eu/event/lezioni-7/
LOCATION:Casa F.A.C.I.\, Via Lombardo Ernesto\, 16\, Massa\, 54100\, Italia
CATEGORIES:Lezioni
END:VEVENT
BEGIN:VEVENT
DTSTART;TZID=UTC:20220330T090000
DTEND;TZID=UTC:20220330T183000
DTSTAMP:20260421T173636
CREATED:20210926T134842Z
LAST-MODIFIED:20210926T134842Z
UID:33082-1648630800-1648665000@pastoralcounseling.eu
SUMMARY:Lezioni
DESCRIPTION:
URL:http://pastoralcounseling.eu/event/lezioni-6/
LOCATION:Casa F.A.C.I.\, Via Lombardo Ernesto\, 16\, Massa\, 54100\, Italia
CATEGORIES:Lezioni
END:VEVENT
BEGIN:VEVENT
DTSTART;TZID=UTC:20220223T090000
DTEND;TZID=UTC:20220223T183000
DTSTAMP:20260421T173636
CREATED:20210926T134759Z
LAST-MODIFIED:20210926T134759Z
UID:33080-1645606800-1645641000@pastoralcounseling.eu
SUMMARY:Lezioni
DESCRIPTION:
URL:http://pastoralcounseling.eu/event/lezioni-5/
LOCATION:Casa F.A.C.I.\, Via Lombardo Ernesto\, 16\, Massa\, 54100\, Italia
CATEGORIES:Lezioni
END:VEVENT
BEGIN:VEVENT
DTSTART;TZID=UTC:20220126T090000
DTEND;TZID=UTC:20220126T183000
DTSTAMP:20260421T173636
CREATED:20211112T100227Z
LAST-MODIFIED:20211112T100237Z
UID:33231-1643187600-1643221800@pastoralcounseling.eu
SUMMARY:Lezioni classe II
DESCRIPTION:09\,00 – 13\,00 Tecniche  di gruppo (Prof. De Angeli) \n14\,30 – 18\,30 Analisi dinamica Film ( Prof.Carolini)
URL:http://pastoralcounseling.eu/event/lezioni-classe-ii-26-genn/
LOCATION:Casa F.A.C.I.\, Via Lombardo Ernesto\, 16\, Massa\, 54100\, Italia
CATEGORIES:Classe II
END:VEVENT
BEGIN:VEVENT
DTSTART;TZID=UTC:20220126T090000
DTEND;TZID=UTC:20220126T183000
DTSTAMP:20260421T173636
CREATED:20211112T094834Z
LAST-MODIFIED:20211112T094834Z
UID:33216-1643187600-1643221800@pastoralcounseling.eu
SUMMARY:Lezioni classe I
DESCRIPTION:  \nElementi di psicologia della personalità \n(Prof. Borghetti
URL:http://pastoralcounseling.eu/event/lezioni-classe-i/
LOCATION:Casa F.A.C.I.\, Via Lombardo Ernesto\, 16\, Massa\, 54100\, Italia
CATEGORIES:Classe I
END:VEVENT
BEGIN:VEVENT
DTSTART;TZID=UTC:20220126T080000
DTEND;TZID=UTC:20220126T170000
DTSTAMP:20260421T173636
CREATED:20211112T102210Z
LAST-MODIFIED:20211112T102210Z
UID:33243-1643184000-1643216400@pastoralcounseling.eu
SUMMARY:Lezioni classe III
DESCRIPTION:Problematiche del vissuto nella vita religiosa e sacerdotale \n(Prof. Galli)
URL:http://pastoralcounseling.eu/event/lezioni-classe-iii-26-gennaio/
LOCATION:Casa F.A.C.I.\, Via Lombardo Ernesto\, 16\, Massa\, 54100\, Italia
CATEGORIES:Classe III
END:VEVENT
BEGIN:VEVENT
DTSTART;TZID=UTC:20211229T090000
DTEND;TZID=UTC:20211229T183000
DTSTAMP:20260421T173636
CREATED:20211112T102106Z
LAST-MODIFIED:20211112T102106Z
UID:33241-1640768400-1640802600@pastoralcounseling.eu
SUMMARY:Lezioni classe III
DESCRIPTION:Problematiche del vissuto nella vita religiosa e sacerdotale \n(Prof. Galli)
URL:http://pastoralcounseling.eu/event/lezioni-classe-iii-29-dic/
LOCATION:Casa F.A.C.I.\, Via Lombardo Ernesto\, 16\, Massa\, 54100\, Italia
CATEGORIES:Classe III
END:VEVENT
BEGIN:VEVENT
DTSTART;TZID=UTC:20211229T090000
DTEND;TZID=UTC:20211229T183000
DTSTAMP:20260421T173636
CREATED:20211112T100018Z
LAST-MODIFIED:20211112T100018Z
UID:33229-1640768400-1640802600@pastoralcounseling.eu
SUMMARY:Lezioni classe II
DESCRIPTION:Dinamica di gruppo e animazione pastorale \n(Prof.Caprini)
URL:http://pastoralcounseling.eu/event/lezioni-classe-ii-29-dic/
LOCATION:Casa F.A.C.I.\, Via Lombardo Ernesto\, 16\, Massa\, 54100\, Italia
CATEGORIES:Classe II
END:VEVENT
BEGIN:VEVENT
DTSTART;TZID=UTC:20211229T080000
DTEND;TZID=UTC:20211229T170000
DTSTAMP:20260421T173636
CREATED:20211112T094648Z
LAST-MODIFIED:20211112T094648Z
UID:33214-1640764800-1640797200@pastoralcounseling.eu
SUMMARY:Lezioni classe I
DESCRIPTION:Elementi di psicologia della personalità \n(Prof. Borghetti)
URL:http://pastoralcounseling.eu/event/lezioni-classe-i-29-dic/
LOCATION:Casa F.A.C.I.\, Via Lombardo Ernesto\, 16\, Massa\, 54100\, Italia
CATEGORIES:Classe I
END:VEVENT
BEGIN:VEVENT
DTSTART;TZID=UTC:20211124T090000
DTEND;TZID=UTC:20211124T183000
DTSTAMP:20260421T173636
CREATED:20211112T102000Z
LAST-MODIFIED:20211112T102000Z
UID:33239-1637744400-1637778600@pastoralcounseling.eu
SUMMARY:Lezioni classe III
DESCRIPTION:Counseling per la famiglia (Prof Ferrari)
URL:http://pastoralcounseling.eu/event/lezioni-classe-iii-24-novem/
LOCATION:Casa F.A.C.I.\, Via Lombardo Ernesto\, 16\, Massa\, 54100\, Italia
CATEGORIES:Classe III
END:VEVENT
BEGIN:VEVENT
DTSTART;TZID=UTC:20211124T090000
DTEND;TZID=UTC:20211124T183000
DTSTAMP:20260421T173636
CREATED:20211112T095902Z
LAST-MODIFIED:20211112T095902Z
UID:33227-1637744400-1637778600@pastoralcounseling.eu
SUMMARY:Lezioni classe II
DESCRIPTION:Dinamica di gruppo e animazione pastorale \n(Prof.Caprini)
URL:http://pastoralcounseling.eu/event/lezioni-classe-ii-24-nov/
LOCATION:Casa F.A.C.I.\, Via Lombardo Ernesto\, 16\, Massa\, 54100\, Italia
CATEGORIES:Classe II
END:VEVENT
BEGIN:VEVENT
DTSTART;TZID=UTC:20211124T090000
DTEND;TZID=UTC:20211124T183000
DTSTAMP:20260421T173636
CREATED:20210926T133831Z
LAST-MODIFIED:20211112T094527Z
UID:33068-1637744400-1637778600@pastoralcounseling.eu
SUMMARY:Lezioni classe I
DESCRIPTION:Questioni di Teologia Spirituale \n(Prof.Galeotti)
URL:http://pastoralcounseling.eu/event/lezioni-classe-1-24nov/
LOCATION:Casa F.A.C.I.\, Via Lombardo Ernesto\, 16\, Massa\, 54100\, Italia
CATEGORIES:Lezioni
END:VEVENT
BEGIN:VEVENT
DTSTART;TZID=UTC:20211027T090000
DTEND;TZID=UTC:20211027T183000
DTSTAMP:20260421T173636
CREATED:20211112T095727Z
LAST-MODIFIED:20211112T095757Z
UID:33225-1635325200-1635359400@pastoralcounseling.eu
SUMMARY:Lezioni classe II
DESCRIPTION:Bioetica  cristiana \n(Prof. Furfori)
URL:http://pastoralcounseling.eu/event/lezioni-classe-2-27-ott/
LOCATION:Casa F.A.C.I.\, Via Lombardo Ernesto\, 16\, Massa\, 54100\, Italia
CATEGORIES:Classe II
END:VEVENT
BEGIN:VEVENT
DTSTART;TZID=UTC:20211027T090000
DTEND;TZID=UTC:20211027T183000
DTSTAMP:20260421T173636
CREATED:20211112T094945Z
LAST-MODIFIED:20211112T095030Z
UID:33218-1635325200-1635359400@pastoralcounseling.eu
SUMMARY:Lezioni classe I
DESCRIPTION:Elementi di psicologia della personalità \n(Prof. Borghetti)
URL:http://pastoralcounseling.eu/event/lezioni-classe-i-2/
LOCATION:Casa F.A.C.I.\, Via Lombardo Ernesto\, 16\, Massa\, 54100\, Italia
CATEGORIES:Classe I
END:VEVENT
BEGIN:VEVENT
DTSTART;TZID=UTC:20211027T080000
DTEND;TZID=UTC:20211027T170000
DTSTAMP:20260421T173636
CREATED:20211112T101849Z
LAST-MODIFIED:20211112T101849Z
UID:33237-1635321600-1635354000@pastoralcounseling.eu
SUMMARY:Lezioni classe III
DESCRIPTION:9\,00 – 13\,00 Analisi dinamica film (Prof. Carolini) \n14\,30 – 18\,30 Counseling per la famigli (Prof Ferrari)
URL:http://pastoralcounseling.eu/event/lezioni-classe-iii-27-ottobr/
LOCATION:Casa F.A.C.I.\, Via Lombardo Ernesto\, 16\, Massa\, 54100\, Italia
CATEGORIES:Classe III
END:VEVENT
END:VCALENDAR